BEGIN:VCALENDAR
VERSION:2.0
PRODID:-//hacksw/handcal//NONSGML v1.0//EN
BEGIN:VEVENT
SUMMARY:Randos Prayssac
UID:2bb82a38-05e4-493c-9747-355c03b6cb1e
DTSTART:20260710T220000Z
DTEND:20260711T220000Z
LOCATION:Localisation   
CATEGORIES:Sportif
STATUS:
DESCRIPTION:<p>VTT - VTTAE - Gravel - Route</p>
 
 <p>25 - 45 et 62
 km</p>
 
 <p> </p>
 
 <p>Circuits dans la vallee du Lot</p>
 
 <p>A partir
 de 14h et repas/concert au retour</p>
URL;VALUE=URI:https://www.velopassionvilleneuvois.fr/evenements/2026/07/11/randos-prayssac-2419697
END:VEVENT
END:VCALENDAR
