BEGIN:VCALENDAR
VERSION:2.0
PRODID:-//hacksw/handcal//NONSGML v1.0//EN
BEGIN:VEVENT
SUMMARY:parcours lundi 06-04-2026
UID:daebf265-9c1c-4646-9820-38c90aad72d3
DTSTART:20260406T113000Z
DTEND:20260406T150000Z
LOCATION:Localisation Parking du Sol de la Dime 12260 Villeneuve
CATEGORIES:Sportif
STATUS:
DESCRIPTION:<p>Lombregot-Teulieres-Barbat-Pech Gourgou-Bach-La
 Bastide Capdenac-Calcomier-Memer-Laramiere-Promilhanes-Les Claus de
 Mageac-Souliers--Marroule-Le Juge-L'Espinassierre-Bourrafie-Sembel<a
 href="https://www.openrunner.com/route-details/23212621">https://www.openrunner.com/route-details/23212621</a></p>
URL;VALUE=URI:https://www.velopassionvilleneuvois.fr/evenements/2026/04/06/parcours-lundi-06-04-2026-2433333
END:VEVENT
END:VCALENDAR
